BEGIN:VCALENDAR
VERSION:2.0
PRODID:-//Meine Webseite//DE
BEGIN:VEVENT
UID:pferderennen-rennbahn-halle-20260509T100000@example.com
DTSTAMP:20260313T100000Z
DTSTART;TZID=Europe/Berlin:20260509T100000
DTEND;TZID=Europe/Berlin:20260509T180000
SUMMARY:Pferderennen Rennbahn Halle
LOCATION:Passendorfer Wiesen 1, 06124 Halle (Saale)
DESCRIPTION:Pferderennen Rennbahn Halle am 09.05.2026 von 10:00 bis 18:00 Uhr.
END:VEVENT
END:VCALENDAR